BEGIN:VCALENDAR
VERSION:2.0
PRODID:-// - ECPv6.15.20//NONSGML v1.0//EN
CALSCALE:GREGORIAN
METHOD:PUBLISH
X-ORIGINAL-URL:https://macdonaldbookshop.com
X-WR-CALDESC:Events for 
REFRESH-INTERVAL;VALUE=DURATION:PT1H
X-Robots-Tag:noindex
X-PUBLISHED-TTL:PT1H
BEGIN:VTIMEZONE
TZID:UTC
BEGIN:STANDARD
TZOFFSETFROM:+0000
TZOFFSETTO:+0000
TZNAME:UTC
DTSTART:20250101T000000
END:STANDARD
END:VTIMEZONE
BEGIN:VEVENT
DTSTART;TZID=UTC:20260526T163000
DTEND;TZID=UTC:20260526T180000
DTSTAMP:20260420T172435
CREATED:20260223T203618Z
LAST-MODIFIED:20260416T194656Z
UID:4774-1779813000-1779818400@macdonaldbookshop.com
SUMMARY:Celebrate Aimie Runyan’s New Book: Missed Connections @ The Spice Rack
DESCRIPTION:Aimie Runyan’s thirteenth book\, Missed Connections\, arrives May 26\, 2026. This contemporary fiction novel weaves in historical details and foodie delights that are sure to make you hungry as you read. \nSupport our local author by joining her book launch at The Spice Rack: \n\nDate: May 26\, 2026\nTime: 4:30 – 6:00 PM\nLocation: The Spice Rack\, 2470 CO-66\, Estes Park\, Colorado\, 80517\n\nThe evening will include: \n\nAn author talk\nQ&A session\nBook signing\n\nPlease RSVP so we can prepare enough goodies. \nMacdonald Book Shop is thrilled to partner with The Spice Rack and Aimie Runyan to bring you a fun and memorable celebration. Thanks to Andrea for providing the space and delicious pastries to complement this special event. \n\n\n  \n\n\n\n Your name\n \n \n Your email\n \n \n Subject\n \n \n Your message (optional)
URL:https://macdonaldbookshop.com/event/author-talk-with-aimie-runyan-the-spice-rack/
LOCATION:Spice Rack\, 2470 CO-66\, Estes Park\, 80517\, United States
CATEGORIES:Author Talks,Town Events
ATTACH;FMTTYPE=image/jpeg:https://macdonaldbookshop.com/wp-content/uploads/2026/01/MacdonaldBannerFinal.jpg
ORGANIZER;CN="Macdonald Book Shop":MAILTO:nicole@macdonaldbookshop.com
END:VEVENT
END:VCALENDAR