BEGIN:VCALENDAR
VERSION:2.0
PRODID:-// - ECPv6.15.20//NONSGML v1.0//EN
CALSCALE:GREGORIAN
METHOD:PUBLISH
X-ORIGINAL-URL:https://macdonaldbookshop.com
X-WR-CALDESC:Events for 
REFRESH-INTERVAL;VALUE=DURATION:PT1H
X-Robots-Tag:noindex
X-PUBLISHED-TTL:PT1H
BEGIN:VTIMEZONE
TZID:UTC
BEGIN:STANDARD
TZOFFSETFROM:+0000
TZOFFSETTO:+0000
TZNAME:UTC
DTSTART:20250101T000000
END:STANDARD
END:VTIMEZONE
BEGIN:VEVENT
DTSTART;TZID=UTC:20260710T190000
DTEND;TZID=UTC:20260710T210000
DTSTAMP:20260421T175931
CREATED:20260222T185154Z
LAST-MODIFIED:20260416T194109Z
UID:4766-1783710000-1783717200@macdonaldbookshop.com
SUMMARY:Macdonald Book Shop Author Panel and Signing
DESCRIPTION:Macdonald Book Shop of Estes Park\, Colorado is excited to host bestselling authors Abigail Owen and Amalie Howard this July at Inkwell and Brew! \n\nDate: July 10\, 2026\nTime: 7 to 9 pm\nLocation: Inkwell and Brew\, 150 E Elkhorn Ave\, Estes Park\, CO. 80517Tickets: $12.51 (including taxes and fees on Eventbrite) Tickets include $10 coupon for book purchases the day of the event or during the event. Tickets are redeemed for book purchases and not drinks at Inkwell and Brew. Ticket Purchase is Required. Purchase tickets here.\nUpstairs seating will open at 6:30pm. Come early if you wish to buy a drink from Inkwell and Brew before the event begins.\n\n\n\nAbout the Event:\nAbigail Owen will be in conversation with Amalie Howard discussing their books\, writing life\, and answering questions. The evening includes time for a book signing with both authors. Macdonald Book Shop will have stock of both Abigail Owen and Amalie Howard’s books for purchase the day of the event and during the event. \nAbout the Authors: Abigail Owen\n\nAbigail Owen is the #1 New York Times\, #1 USA Today\, and international bestselling author of 35+ romantasy and paranormal romance books. Her obsession is creating captivating magical worlds with plots that move hot and fast\, feisty heroines with sass\, morally gray heroes with heart\, a dash of snark\, and oodles of HEAs (happily ever afters)! \nAbbie is a 4th generation graduate of Texas A&M University (gig’em Ags!) with a degree in English Rhetoric (technical writing)\, and has an eMBA from California State University-Sacramento. Prior to becoming a published author in 2012\, she spent 15+ years using the other side of her brain in various tech- and business-related roles. \nOther achievements\, titles\, and interests include: Star Wars geek\, ex-competitive skydiver\, AuDHD\, spreadsheet lover\, Jeopardy! fanatic\, classic movie buff\, linguaphile\, and chocoholic. All of which sneak into her storytelling in a million different ways. \nAbbie currently resides in Austin\, Texas\, with her own swoon-worthy hero\, their constantly entertaining (and sadly almost grown) kids\, and an adorable fur baby. \nAmalie Howard\n\n\nAMALIE HOWARD is a USA Today and Publishers Weekly bestselling romance author. Her novels have received national awards\, starred trade reviews\, and have been featured in The Hollywood Reporter\, Screen Rant\, Entertainment Weekly\, and Cosmopolitan. She also writes young adult fiction as well as books for younger readers\, which have been a Kids’ IndieNext pick\, a Target Book Club read\, a Scholastic Book Fair selection\, and on multiple high school state reading lists. When she’s not writing\, she can usually be found reading\, being the president of her one-woman Harley Davidson motorcycle club\, or power-napping. She lives in Colorado with her family. \n\nDon’t miss this chance to meet Abigail Owen and Amalie Howard for this in-person book conversation! \nSpaces are limited\, so please RSVP to secure your spot. For more information use the form below. \n\n\n  \n\n\n\n Your name\n \n \n Your email\n \n \n Subject\n \n \n Your message (optional)
URL:https://macdonaldbookshop.com/event/abigail-owen-author-talk-and-signing-inkwell-and-brew/
LOCATION:Inkwell and Brew\, 150 E Elkhorn Ave\, Estes Park\, CO\, 80517\, United States
CATEGORIES:Author Talks,Store Event
ATTACH;FMTTYPE=image/jpeg:https://macdonaldbookshop.com/wp-content/uploads/2026/02/Untitled-design-2-scaled.jpg
ORGANIZER;CN="Macdonald Book Shop":MAILTO:nicole@macdonaldbookshop.com
END:VEVENT
END:VCALENDAR