BEGIN:VCALENDAR
VERSION:2.0
PRODID:-// - ECPv6.15.20//NONSGML v1.0//EN
CALSCALE:GREGORIAN
METHOD:PUBLISH
X-ORIGINAL-URL:https://macdonaldbookshop.com
X-WR-CALDESC:Events for 
REFRESH-INTERVAL;VALUE=DURATION:PT1H
X-Robots-Tag:noindex
X-PUBLISHED-TTL:PT1H
BEGIN:VTIMEZONE
TZID:UTC
BEGIN:STANDARD
TZOFFSETFROM:+0000
TZOFFSETTO:+0000
TZNAME:UTC
DTSTART:20250101T000000
END:STANDARD
END:VTIMEZONE
BEGIN:VEVENT
DTSTART;TZID=UTC:20260420T093000
DTEND;TZID=UTC:20260420T100000
DTSTAMP:20260419T143902
CREATED:20260405T203120Z
LAST-MODIFIED:20260405T203120Z
UID:4868-1776677400-1776679200@macdonaldbookshop.com
SUMMARY:Macdonald Book Shop Storytime - Unicorn Day
DESCRIPTION:Macdonald Book Shop hosts a themed Monday storytime each week. Michele reads two to three books per storytime\, offers crafts/activities\, and free snacks. Our independent bookstore may be small but we have a wide selection of books for all ages\, and we love sharing the love of reading. \nThis week Michele is on vacation and Terri is stepping in. The chosen theme is Unicorn Day.  Join us in Estes Park\, Colorado for this wonderful event.
URL:https://macdonaldbookshop.com/event/macdonald-book-shop-storytime-unicorn-day/
LOCATION:Macdonald Book Shop\, 152 E Elkhorn Ave\, Estes Park\, CO\, 80517\, United States
CATEGORIES:Children's Story Time
ATTACH;FMTTYPE=image/jpeg:https://macdonaldbookshop.com/wp-content/uploads/2026/04/uni.jpg
ORGANIZER;CN="Macdonald Book Shop":MAILTO:nicole@macdonaldbookshop.com
END:VEVENT
BEGIN:VEVENT
DTSTART;TZID=UTC:20260425T090000
DTEND;TZID=UTC:20260425T173000
DTSTAMP:20260419T143902
CREATED:20260125T202640Z
LAST-MODIFIED:20260409T201750Z
UID:4693-1777107600-1777138200@macdonaldbookshop.com
SUMMARY:Macdonald Book Shop's Independent Book Store Day
DESCRIPTION:Join Macdonald Book Shop in Estes Park\, Colorado for the 13th annual Independent Bookstore Day on the last Saturday in April! We’re thrilled to have a full day of fun\, giveaways\, and author events planned. \n✨ Highlights Indie Bookstore Day: \n\nAimie Runyan from 10:00 AM – 2:00 PM: Meet Aimie and celebrate her newest book\, Missed Connections\, releasing May 26\, 2026.\nIndependent Bookstore Swag: Including Blackwing Pencils\, totes\, and more\nSpecial Giveaway: Make a purchase to play Plinko and get a gift (while supplies last). Please check with us on Indepenedent Book Store Day for details.\nLibro.fm Golden Ticket: Find the lucky ticket and win a free audiobook.\n\n📅 Save the Date and come join Macdonald Book Shop for a full day of books\, fun\, and surprises! \nFor questions\, reach out via the form below. \n\n\n  \n\n\n\n Your name\n \n \n Your email\n \n \n Subject\n \n \n Your message (optional)
URL:https://macdonaldbookshop.com/event/macdonald-book-shops-independent-book-store-day/
LOCATION:Macdonald Book Shop\, 152 E Elkhorn Ave\, Estes Park\, CO\, 80517\, United States
CATEGORIES:Anniversary,Store Event
ATTACH;FMTTYPE=image/png:https://macdonaldbookshop.com/wp-content/uploads/2026/01/IBD-2026-Logo-primary-scaled.png
ORGANIZER;CN="Macdonald Book Shop":MAILTO:nicole@macdonaldbookshop.com
END:VEVENT
BEGIN:VEVENT
DTSTART;TZID=UTC:20260427T093000
DTEND;TZID=UTC:20260427T100000
DTSTAMP:20260419T143902
CREATED:20260405T203404Z
LAST-MODIFIED:20260405T203404Z
UID:4871-1777282200-1777284000@macdonaldbookshop.com
SUMMARY:Macdonald Book Shop Storytime - Things That Are Big
DESCRIPTION:Macdonald Book Shop hosts a themed Monday storytime each week. Michele reads two to three books per storytime\, offers crafts/activities\, and free snacks. Our independent bookstore may be small but we have a wide selection of books for all ages\, and we love sharing the love of reading. \nThis week Michele has chosen a Things That Are Big Theme. Join us in Estes Park\, Colorado for this wonderful event.
URL:https://macdonaldbookshop.com/event/macdonald-book-shop-storytime-things-that-are-big/
LOCATION:Macdonald Book Shop\, 152 E Elkhorn Ave\, Estes Park\, CO\, 80517\, United States
CATEGORIES:Children's Story Time
ATTACH;FMTTYPE=image/jpeg:https://macdonaldbookshop.com/wp-content/uploads/2026/04/things-that-are-big.jpg
ORGANIZER;CN="Macdonald Book Shop":MAILTO:nicole@macdonaldbookshop.com
END:VEVENT
END:VCALENDAR